BEGIN:VCALENDAR
VERSION:2.0
PRODID:-//Craft NI - ECPv6.15.20//NONSGML v1.0//EN
CALSCALE:GREGORIAN
METHOD:PUBLISH
X-WR-CALNAME:Craft NI
X-ORIGINAL-URL:https://craftni.org
X-WR-CALDESC:Events for Craft NI
REFRESH-INTERVAL;VALUE=DURATION:PT1H
X-Robots-Tag:noindex
X-PUBLISHED-TTL:PT1H
BEGIN:VTIMEZONE
TZID:Europe/London
BEGIN:DAYLIGHT
TZOFFSETFROM:+0000
TZOFFSETTO:+0100
TZNAME:BST
DTSTART:20240331T010000
END:DAYLIGHT
BEGIN:STANDARD
TZOFFSETFROM:+0100
TZOFFSETTO:+0000
TZNAME:GMT
DTSTART:20241027T010000
END:STANDARD
BEGIN:DAYLIGHT
TZOFFSETFROM:+0000
TZOFFSETTO:+0100
TZNAME:BST
DTSTART:20250330T010000
END:DAYLIGHT
BEGIN:STANDARD
TZOFFSETFROM:+0100
TZOFFSETTO:+0000
TZNAME:GMT
DTSTART:20251026T010000
END:STANDARD
BEGIN:DAYLIGHT
TZOFFSETFROM:+0000
TZOFFSETTO:+0100
TZNAME:BST
DTSTART:20260329T010000
END:DAYLIGHT
BEGIN:STANDARD
TZOFFSETFROM:+0100
TZOFFSETTO:+0000
TZNAME:GMT
DTSTART:20261025T010000
END:STANDARD
BEGIN:DAYLIGHT
TZOFFSETFROM:+0000
TZOFFSETTO:+0100
TZNAME:BST
DTSTART:20270328T010000
END:DAYLIGHT
BEGIN:STANDARD
TZOFFSETFROM:+0100
TZOFFSETTO:+0000
TZNAME:GMT
DTSTART:20271031T010000
END:STANDARD
END:VTIMEZONE
BEGIN:VEVENT
DTSTART;TZID=Europe/London:20250530T100000
DTEND;TZID=Europe/London:20261130T170000
DTSTAMP:20260425T124737
CREATED:20250529T091910Z
LAST-MODIFIED:20260305T162246Z
UID:18539-1748599200-1796058000@craftni.org
SUMMARY:'Art of the Possible'
DESCRIPTION:Over the past decade\, the Ulster Museum has collected a significant number of  important artworks from around the world—many of which have never been seen by the public until now. \nArt of the Possible features over 40 artworks made from glass\, ceramics\, silver\, metalwork\, jewellery\, and wood. These works were created by some of the most talented and important artists and designers working in these materials today.
URL:https://craftni.org/event/art-of-possible/
LOCATION:Ulster Museum\, BT9 5AB\, United Kingdom
CATEGORIES:Exhibitions
ATTACH;FMTTYPE=image/png:https://craftni.org/wp-content/uploads/2025/05/Website-event-size-50-2-e1748510147888.png
END:VEVENT
BEGIN:VEVENT
DTSTART;TZID=Europe/London:20260319T100000
DTEND;TZID=Europe/London:20260620T133000
DTSTAMP:20260425T124737
CREATED:20260319T152204Z
LAST-MODIFIED:20260319T152204Z
UID:19932-1773914400-1781962200@craftni.org
SUMMARY:Make Your Own Wedding Rings
DESCRIPTION:Join Ruth from NI Silver in her Holywood studio to make a pair of bespoke wedding rings. Ruth will guide participants through the process of piercing\, filing\, soldering\, hammering\, cleaning and polishing their rings. \nNo experience is required for this workshop. \nPlease note prices start at £250; time and date to be agreed with organiser.
URL:https://craftni.org/event/make-your-own-wedding-rings/
LOCATION:NI Silver Studio\, Holywood\, Co. Down
CATEGORIES:Workshops
ATTACH;FMTTYPE=image/jpeg:https://craftni.org/wp-content/uploads/2026/03/Website-event-size-4-1.jpg
ORGANIZER;CN="NI Silver":MAILTO:ruth@nisilver.com
END:VEVENT
BEGIN:VEVENT
DTSTART;TZID=Europe/London:20260616T100000
DTEND;TZID=Europe/London:20260619T160000
DTSTAMP:20260425T124737
CREATED:20260312T112849Z
LAST-MODIFIED:20260312T112849Z
UID:19817-1781604000-1781884800@craftni.org
SUMMARY:Throwing workshop with Adam Frew
DESCRIPTION:Join Adam Frew for a 4 day throwing workshop – classes will be small groups of 5-7 students\, suitable for all levels\, from beginners to improvers. The emphasis of the class will be on using the potter’s wheel to make a variety of thrown porcelain vessels. Students will be guided through the basics of throwing and also turning (finishing) pots. Adam will demonstrate his various decoration techniques and students will be encouraged to be experimental in their approach. There will be flexibility in the teaching allowing students to request specific demonstrations or help with a particular technique. \nFinished pieces will be glaze fired in the gas kiln and ready 3-4 weeks after the course for collection\, or shipping can be arranged. \nThis 4 day course will run from 10am – 4pm. Tea and coffee is provided and a simple lunch of soup and bread .
URL:https://craftni.org/event/throwing-workshop-with-adam-frew-3/
LOCATION:Adam Frew Studio\, 21 Cullycapple Park\, Aghadowey\, BT51 4AS\, United Kingdom
CATEGORIES:Workshops
ATTACH;FMTTYPE=image/jpeg:https://craftni.org/wp-content/uploads/2026/03/Website-event-size-7.jpg
END:VEVENT
END:VCALENDAR