BEGIN:VCALENDAR
VERSION:2.0
PRODID:-//Craft NI - ECPv6.15.20//NONSGML v1.0//EN
CALSCALE:GREGORIAN
METHOD:PUBLISH
X-ORIGINAL-URL:https://craftni.org
X-WR-CALDESC:Events for Craft NI
REFRESH-INTERVAL;VALUE=DURATION:PT1H
X-Robots-Tag:noindex
X-PUBLISHED-TTL:PT1H
BEGIN:VTIMEZONE
TZID:Europe/London
BEGIN:DAYLIGHT
TZOFFSETFROM:+0000
TZOFFSETTO:+0100
TZNAME:BST
DTSTART:20220327T010000
END:DAYLIGHT
BEGIN:STANDARD
TZOFFSETFROM:+0100
TZOFFSETTO:+0000
TZNAME:GMT
DTSTART:20221030T010000
END:STANDARD
BEGIN:DAYLIGHT
TZOFFSETFROM:+0000
TZOFFSETTO:+0100
TZNAME:BST
DTSTART:20230326T010000
END:DAYLIGHT
BEGIN:STANDARD
TZOFFSETFROM:+0100
TZOFFSETTO:+0000
TZNAME:GMT
DTSTART:20231029T010000
END:STANDARD
BEGIN:DAYLIGHT
TZOFFSETFROM:+0000
TZOFFSETTO:+0100
TZNAME:BST
DTSTART:20240331T010000
END:DAYLIGHT
BEGIN:STANDARD
TZOFFSETFROM:+0100
TZOFFSETTO:+0000
TZNAME:GMT
DTSTART:20241027T010000
END:STANDARD
BEGIN:DAYLIGHT
TZOFFSETFROM:+0000
TZOFFSETTO:+0100
TZNAME:BST
DTSTART:20250330T010000
END:DAYLIGHT
BEGIN:STANDARD
TZOFFSETFROM:+0100
TZOFFSETTO:+0000
TZNAME:GMT
DTSTART:20251026T010000
END:STANDARD
END:VTIMEZONE
BEGIN:VEVENT
DTSTART;TZID=Europe/London:20231013T100000
DTEND;TZID=Europe/London:20240102T170000
DTSTAMP:20260425T052322
CREATED:20231120T110929Z
LAST-MODIFIED:20231120T110929Z
UID:15058-1697191200-1704214800@craftni.org
SUMMARY:RUA Annual Exhibition
DESCRIPTION:The 142nd Royal Ulster Academy Annual Exhibition of Art is taking place at Ulster Museum. \nThe Royal Ulster Academy is the most enduring body of practicing visual artists in Northern Ireland\, and its annual exhibition is one of the highlights of the Northern Ireland arts calendar. The 142nd art exhibition contains over 300 artworks that use a diverse range of materials to create an inspiring variety of artwork by both local artists and artists from across the globe. \nFounded in 1879\, the Royal Ulster Academy of Arts is the largest and longest established body of practising visual artists in Northern Ireland. One of its founding principles is to organise\, promote or join in organising and promoting in any fashion an Annual Exhibition of work by both members and non–members. \nThis exhibition is on display in Gallery 6 until Tuesday 2nd January 2024. Free to attend and no booking necessary.
URL:https://craftni.org/event/rua-annual-exhibition/
LOCATION:Ulster Museum\, BT9 5AB\, United Kingdom
CATEGORIES:Christmas,Exhibitions
ATTACH;FMTTYPE=image/png:https://craftni.org/wp-content/uploads/2023/11/Website-event-size-28-2.png
END:VEVENT
BEGIN:VEVENT
DTSTART;TZID=Europe/London:20231102T100000
DTEND;TZID=Europe/London:20231231T170000
DTSTAMP:20260425T052322
CREATED:20231019T145017Z
LAST-MODIFIED:20231019T145017Z
UID:14791-1698919200-1704042000@craftni.org
SUMMARY:Big Bauble Showcase
DESCRIPTION:The Big Bauble Showcase is a yearly staple at Craft NI Gallery\, featuring a wide range of unique handmade baubles\, in limited ranges or one-offs. The event is a highlight for visitors who come back each year to add to their collection. \nStop by to admire and pick up a meaningful gift – these unique designs in porcelain\, felt\, enamel\, textiles or hand blown glass are sure to impress!
URL:https://craftni.org/event/big-bauble-showcase/
LOCATION:Craft NI Gallery\, 115 - 119 Royal Ave\, Belfast\, BT1 1FF\, United Kingdom
CATEGORIES:Christmas,Exhibitions
ATTACH;FMTTYPE=image/png:https://craftni.org/wp-content/uploads/2023/10/Big-Bauble-2023-e1697726984419.png
END:VEVENT
BEGIN:VEVENT
DTSTART;TZID=Europe/London:20231111T100000
DTEND;TZID=Europe/London:20231221T160000
DTSTAMP:20260425T052322
CREATED:20231116T213627Z
LAST-MODIFIED:20231116T213627Z
UID:15051-1699696800-1703174400@craftni.org
SUMMARY:Christmas Craft Market
DESCRIPTION:One of the most popular festive markets on the North Coast returns! The Christmas Craft Market opens on Saturday 11 November from 10am-4pm and continues until Thursday 21 December. \nIn the Christmas Craft Market visitors will find unique\, handmade presents  – from pottery and fashion accessories to jewellery and glass homeware\, beautiful artwork\, artisan food and much more – all made with love by makers and visual artists based in Northern Ireland with most hailing from the Causeway Coast and Glens area – so by buying a one off handmade gift for a loved one\, you’re also supporting a local small business. \nThe market runs weekly from 11 November to 21 December on Monday-Saturday 10am-4pm with additional opening hours on Wednesday and Thursday evenings from 7-9pm.
URL:https://craftni.org/event/christmas-craft-market/
LOCATION:Flowerfield Arts Centre\, 185 Coleraine Road\, Portstewart\, BT55 7HU\, United Kingdom
CATEGORIES:Christmas,Fairs,Markets
ATTACH;FMTTYPE=image/jpeg:https://craftni.org/wp-content/uploads/2023/11/CCG_A5-Leaflet_Christmas-e1700170578800.jpg
ORGANIZER;CN="Flowerfield Arts Centre":MAILTO:info@flowerfield.org
END:VEVENT
BEGIN:VEVENT
DTSTART;TZID=Europe/London:20231122T100000
DTEND;TZID=Europe/London:20240107T160000
DTSTAMP:20260425T052322
CREATED:20231116T212924Z
LAST-MODIFIED:20231116T212924Z
UID:15048-1700647200-1704643200@craftni.org
SUMMARY:Pop-up Christmas Shop
DESCRIPTION:Come and visit a unique shopping experience this Christmas at North Down Museum. Browse the museum’s galleries\, which are filled with beautiful hand-made products from local artists and makers. The perfect place to get that special gift and support your local crafters. \n\n\n\n\n \n\n\nThe shop is free to explore during normal opening hours: Tuesday to Saturday 10am–4pm and Sunday 12–4pm. \n 
URL:https://craftni.org/event/pop-up-christmas-shop/
LOCATION:North Down Museum\, Town Hall\, The Castle\, Bangor\, BT20 4BT\, United Kingdom
CATEGORIES:Christmas,Fairs,Markets
ATTACH;FMTTYPE=image/png:https://craftni.org/wp-content/uploads/2023/11/Screenshot-2023-11-16-at-21.26.33-e1700170057405.png
END:VEVENT
BEGIN:VEVENT
DTSTART;TZID=Europe/London:20231130T093000
DTEND;TZID=Europe/London:20231223T170000
DTSTAMP:20260425T052322
CREATED:20231128T152118Z
LAST-MODIFIED:20231128T153641Z
UID:15110-1701336600-1703350800@craftni.org
SUMMARY:Form | Function | Flourish
DESCRIPTION:A special ceramic group show which brings together the work of 18 established artists who have been invited to consider form\, function and/or flourish\, and create work that demonstrates the breadth of expression\, skill and innovation in contemporary ceramics. \nThe exhibition continues until 21 December\, and includes makers such as Malcom Murchinson\,  Anna Donovan\, Claire and Karen Gibson\, John McKeag\, Rory and Helen Shearer\, Sandra Robinson and many others.
URL:https://craftni.org/event/form-function-flourish/
LOCATION:Island Arts Centre\, The Island\, Lisburn\, BT27 4RL\, United Kingdom
CATEGORIES:Christmas,Exhibitions
ATTACH;FMTTYPE=image/jpeg:https://craftni.org/wp-content/uploads/2023/11/Screenshot-2023-11-28-at-15.13.42-e1701185795332.jpeg
END:VEVENT
BEGIN:VEVENT
DTSTART;TZID=Europe/London:20231201T100000
DTEND;TZID=Europe/London:20231201T130000
DTSTAMP:20260425T052322
CREATED:20231116T214307Z
LAST-MODIFIED:20231116T214307Z
UID:15054-1701424800-1701435600@craftni.org
SUMMARY:Festive Dorset Button Making Workshop
DESCRIPTION:In this workshop with textile designer\, Debbie McCann\, you will be introduced to the heritage craft of Dorset Button making and shown how these fascinating buttons can be made into stunning Christmas decorations to adorn your tree. All materials will be supplied including plenty of sparkly yarn and ribbon in festive colours.\n\nMax No: 8 | Suitable for 16+ | Tutor: Debbie McCann 
URL:https://craftni.org/event/festive-dorset-button-making-workshop-2/
LOCATION:The Market Place Theatre & Arts Centre\, Armagh\, 9 Market Street\, Armagh\, BT61 7BW
CATEGORIES:Christmas,Workshops
ATTACH;FMTTYPE=image/jpeg:https://craftni.org/wp-content/uploads/2023/11/6669a178ab781315a4109a72a226112f3e161aef529dbb22d952d5e332160db2.jpeg
END:VEVENT
BEGIN:VEVENT
DTSTART;TZID=Europe/London:20231201T130000
DTEND;TZID=Europe/London:20231201T200000
DTSTAMP:20260425T052322
CREATED:20231130T101946Z
LAST-MODIFIED:20231130T101946Z
UID:15115-1701435600-1701460800@craftni.org
SUMMARY:Christmas Artisan Market
DESCRIPTION:Castle Ward will host its Christmas Artisan Market from 1-3 December. In the theatre space and Stable yard you will find a handpicked selection of local designer/makers and food vendors showcasing their work and locally produced products– a great day out and opportunity to pick up locally handcrafted Christmas products. The Stable yard will be dressed in Georgian style with Christmas lights\, accompanied by our living history actors telling you the stories of those who called Castle Ward home during the 18th century. On the late night opening\, visitors will enjoy a night-time experience of Castle Ward lit up by the twinkling lights. \n  \nPlease note\, this event is free\, but normal admission charges apply for the venue.
URL:https://craftni.org/event/christmas-artisan-market/
LOCATION:Castle Ward\, Castle Ward\, Strangford\, Downpatrick\, BT30 7BA
CATEGORIES:Christmas,Markets
ATTACH;FMTTYPE=image/jpeg:https://craftni.org/wp-content/uploads/2023/11/IMG_3225-e1701339458708.jpg
END:VEVENT
BEGIN:VEVENT
DTSTART;TZID=Europe/London:20231201T160000
DTEND;TZID=Europe/London:20231201T200000
DTSTAMP:20260425T052322
CREATED:20231116T212325Z
LAST-MODIFIED:20231116T212325Z
UID:15040-1701446400-1701460800@craftni.org
SUMMARY:Creative Peninsula Christmas Fayre
DESCRIPTION:Support your local artists and makers and be inspired to purchase a wonderful handcrafted Christmas gift\, made in the borough of Ards and North Down! \n\n\n\n\n \n\n\nFor a unique shopping experience\, join the makers and artists of the Creative Peninsula as the popular Christmas Fayre makes a welcome return to Ards Arts Centre for 2 days only. Support your local artists and makers and be inspired to purchase a perfect\, unique\, handcrafted Christmas gift\, made in the borough of Ards and North Down. \nVisitors will enjoy seasonal live music interludes\, complementary gift wrapping\, and festive refreshments.
URL:https://craftni.org/event/creative-peninsula-christmas-fayre/
LOCATION:Ards Arts Centre\, Town Hall\, Conway Square\, Newtownards\, BT23 4NP\, United Kingdom
CATEGORIES:Christmas,Fairs,Markets
ATTACH;FMTTYPE=image/jpeg:https://craftni.org/wp-content/uploads/2023/11/Image-16-11-2023-at-21.18-1-e1700169712599.jpg
END:VEVENT
BEGIN:VEVENT
DTSTART;TZID=Europe/London:20231201T170000
DTEND;TZID=Europe/London:20231201T210000
DTSTAMP:20260425T052322
CREATED:20231114T160345Z
LAST-MODIFIED:20231128T140906Z
UID:14995-1701450000-1701464400@craftni.org
SUMMARY:Belfast Christmas Potter's Market
DESCRIPTION:Building on the success of the previous three events which showed a great variety of work from both established and emerging potters\, Belfast Potter’s Market returns this Christmas at 2 Royal Avenue in Belfast! \nThe event will take place on Friday 1st December 5pm- 9pm and Saturday 2nd December\, 10am – 5pm. \n25 of Ireland’s top potters and sculptors will be gathered together to exhibit and of course sell their beautiful pottery – this festive market will have Christmas music \, treats and hot drinks available from the cafe to enjoy while you browse.
URL:https://craftni.org/event/belfast-christmas-potters-market-2/
LOCATION:2 Royal Avenue\, 2 Royal Avenue\, Belfast\, United Kingdom
CATEGORIES:Christmas,Markets
ATTACH;FMTTYPE=image/jpeg:https://craftni.org/wp-content/uploads/2022/10/311330524_414308657547458_7286399536508663179_n-scaled-e1700481787234.jpg
ORGANIZER;CN="Mud Ireland":MAILTO:Info@Mudireland.com
END:VEVENT
BEGIN:VEVENT
DTSTART;TZID=Europe/London:20231202T100000
DTEND;TZID=Europe/London:20231202T140000
DTSTAMP:20260425T052322
CREATED:20230918T114300Z
LAST-MODIFIED:20230918T114300Z
UID:14395-1701511200-1701525600@craftni.org
SUMMARY:Ceramic Gingerbread House Workshop
DESCRIPTION:Ceramic Artist Fiona Shannon will guide you through designing and making your Christmas gingerbread house which you can use for your festive table. Designed for beginners\, this class will be a fun creative environment to get crafty using a range of clay techniques. Your gingerbread house will be fired to be collected at a later date. \nPlease bring apron and wear clothes that you won’t mind getting a little messy. It is advisable to cut your nails short for this class. 18 yrs +
URL:https://craftni.org/event/ceramic-gingerbread-house-workshop-2/
LOCATION:Flowerfield Arts Centre\, 185 Coleraine Road\, Portstewart\, BT55 7HU\, United Kingdom
CATEGORIES:Christmas,Workshops
ATTACH;FMTTYPE=image/png:https://craftni.org/wp-content/uploads/2023/09/Website-event-size-6-e1695037068946.png
ORGANIZER;CN="Flowerfield Arts Centre":MAILTO:info@flowerfield.org
END:VEVENT
BEGIN:VEVENT
DTSTART;TZID=Europe/London:20231202T100000
DTEND;TZID=Europe/London:20231202T160000
DTSTAMP:20260425T052322
CREATED:20231116T212325Z
LAST-MODIFIED:20231116T212325Z
UID:15044-1701511200-1701532800@craftni.org
SUMMARY:Creative Peninsula Christmas Fayre
DESCRIPTION:Support your local artists and makers and be inspired to purchase a wonderful handcrafted Christmas gift\, made in the borough of Ards and North Down! \n\n\n\n\n \n\n\nFor a unique shopping experience\, join the makers and artists of the Creative Peninsula as the popular Christmas Fayre makes a welcome return to Ards Arts Centre for 2 days only. Support your local artists and makers and be inspired to purchase a perfect\, unique\, handcrafted Christmas gift\, made in the borough of Ards and North Down. \nVisitors will enjoy seasonal live music interludes\, complementary gift wrapping\, and festive refreshments.
URL:https://craftni.org/event/creative-peninsula-christmas-fayre-2023-12-02/
LOCATION:Ards Arts Centre\, Town Hall\, Conway Square\, Newtownards\, BT23 4NP\, United Kingdom
CATEGORIES:Christmas,Fairs,Markets
ATTACH;FMTTYPE=image/jpeg:https://craftni.org/wp-content/uploads/2023/11/Image-16-11-2023-at-21.18-1-e1700169712599.jpg
END:VEVENT
BEGIN:VEVENT
DTSTART;TZID=Europe/London:20231202T110000
DTEND;TZID=Europe/London:20231202T170000
DTSTAMP:20260425T052322
CREATED:20231130T101946Z
LAST-MODIFIED:20231130T101946Z
UID:15118-1701514800-1701536400@craftni.org
SUMMARY:Christmas Artisan Market
DESCRIPTION:Castle Ward will host its Christmas Artisan Market from 1-3 December. In the theatre space and Stable yard you will find a handpicked selection of local designer/makers and food vendors showcasing their work and locally produced products– a great day out and opportunity to pick up locally handcrafted Christmas products. The Stable yard will be dressed in Georgian style with Christmas lights\, accompanied by our living history actors telling you the stories of those who called Castle Ward home during the 18th century. On the late night opening\, visitors will enjoy a night-time experience of Castle Ward lit up by the twinkling lights. \n  \nPlease note\, this event is free\, but normal admission charges apply for the venue.
URL:https://craftni.org/event/christmas-artisan-market-2023-12-02/
LOCATION:Castle Ward\, Castle Ward\, Strangford\, Downpatrick\, BT30 7BA
CATEGORIES:Christmas,Markets
ATTACH;FMTTYPE=image/jpeg:https://craftni.org/wp-content/uploads/2023/11/IMG_3225-e1701339458708.jpg
END:VEVENT
BEGIN:VEVENT
DTSTART;TZID=Europe/London:20231209T103000
DTEND;TZID=Europe/London:20231209T120000
DTSTAMP:20260425T052322
CREATED:20230918T130952Z
LAST-MODIFIED:20230918T130952Z
UID:14415-1702117800-1702123200@craftni.org
SUMMARY:Air Dry Christmas Decoration Children's Workshop
DESCRIPTION:A one-day workshop with Ceramic Artist Fiona Shannon who will guide you through designing and making festive decorations for your Christmas Tree. Designed for beginners and improvers this class will be a fun creative environment to get crafty using a range of clay techniques. Please bring a box with you as children will get to take their creations home with them at the end of the workshop to dry and paint at home. \n  \nSuitable for ages 8 – 12 yrs.
URL:https://craftni.org/event/air-dry-christmas-decoration-childrens-workshop/
LOCATION:Roe Valley Arts & Cultural Centre\, 24 Main Street\, Limavady\, BT49 0FJ\, United Kingdom
CATEGORIES:Christmas,Workshops
ATTACH;FMTTYPE=image/png:https://craftni.org/wp-content/uploads/2023/09/Website-event-size-14-e1695042482872.png
END:VEVENT
BEGIN:VEVENT
DTSTART;TZID=Europe/London:20231209T130000
DTEND;TZID=Europe/London:20231209T143000
DTSTAMP:20260425T052322
CREATED:20230918T130640Z
LAST-MODIFIED:20230918T130640Z
UID:14412-1702126800-1702132200@craftni.org
SUMMARY:Ceramic Christmas Tree Decoration Workshop
DESCRIPTION:In this one-off workshop\, professional ceramicist Fiona Shannon will guide you through designing and making festive Christmas decorations and tea lights perfect for your tree and table. Designed for beginners this class will be a fun creative environment to get crafty using a range of clay techniques. Fiona will fire and glaze your decorations to be collected at a later date. \nSuitable for 18yrs +
URL:https://craftni.org/event/ceramic-christmas-tree-decoration-workshop/
LOCATION:Roe Valley Arts & Cultural Centre\, 24 Main Street\, Limavady\, BT49 0FJ\, United Kingdom
CATEGORIES:Christmas,Workshops
ATTACH;FMTTYPE=image/png:https://craftni.org/wp-content/uploads/2023/09/Website-event-size-13-e1695042326174.png
END:VEVENT
END:VCALENDAR