BEGIN:VCALENDAR
VERSION:2.0
PRODID:-//Craft NI - ECPv6.15.13.1//NONSGML v1.0//EN
CALSCALE:GREGORIAN
METHOD:PUBLISH
X-WR-CALNAME:Craft NI
X-ORIGINAL-URL:https://craftni.org
X-WR-CALDESC:Events for Craft NI
REFRESH-INTERVAL;VALUE=DURATION:PT1H
X-Robots-Tag:noindex
X-PUBLISHED-TTL:PT1H
BEGIN:VTIMEZONE
TZID:Europe/London
BEGIN:DAYLIGHT
TZOFFSETFROM:+0000
TZOFFSETTO:+0100
TZNAME:BST
DTSTART:20230326T010000
END:DAYLIGHT
BEGIN:STANDARD
TZOFFSETFROM:+0100
TZOFFSETTO:+0000
TZNAME:GMT
DTSTART:20231029T010000
END:STANDARD
BEGIN:DAYLIGHT
TZOFFSETFROM:+0000
TZOFFSETTO:+0100
TZNAME:BST
DTSTART:20240331T010000
END:DAYLIGHT
BEGIN:STANDARD
TZOFFSETFROM:+0100
TZOFFSETTO:+0000
TZNAME:GMT
DTSTART:20241027T010000
END:STANDARD
BEGIN:DAYLIGHT
TZOFFSETFROM:+0000
TZOFFSETTO:+0100
TZNAME:BST
DTSTART:20250330T010000
END:DAYLIGHT
BEGIN:STANDARD
TZOFFSETFROM:+0100
TZOFFSETTO:+0000
TZNAME:GMT
DTSTART:20251026T010000
END:STANDARD
BEGIN:DAYLIGHT
TZOFFSETFROM:+0000
TZOFFSETTO:+0100
TZNAME:BST
DTSTART:20260329T010000
END:DAYLIGHT
BEGIN:STANDARD
TZOFFSETFROM:+0100
TZOFFSETTO:+0000
TZNAME:GMT
DTSTART:20261025T010000
END:STANDARD
END:VTIMEZONE
BEGIN:VEVENT
DTSTART;TZID=Europe/London:20240621T100000
DTEND;TZID=Europe/London:20250427T170000
DTSTAMP:20260421T195454
CREATED:20240620T115644Z
LAST-MODIFIED:20240620T115807Z
UID:16913-1718964000-1745773200@craftni.org
SUMMARY:Threads of Empowerment: Conflict Textiles’ International Journey
DESCRIPTION:Taking place as part of Belfast International Arts Festival\, come along to see Threads of Empowerment: Conflict Textiles’ International Journey. \nPeople across the world have communicated their experiences of violence and conflict\, human rights violations\, poverty\, oppression and environmental issues through the form of textile narrative. \nThe result is a visual record and a form of artistic expression based on personal\, and often very poignant testimonies. \nThis collaborative exhibition will explore the strengths and highlights of the Conflict Textiles collection – its history\, international diversity and the important themes it addresses. \nLearn more about the Conflict Textiles collection and associated activities through this link. \nWhat to know \n\nThis exhibition will take place in Art Gallery 3 at the Ulster Museum\nIt’s free to visit and no booking is necessary.\nOpening on 21st June 2024.\n\nImage credits: Detail of ‘Vida en Nuestra Población / Life in Our Poor Neighborhood’\,Photo: Martin Melaugh\, © Conflict Textiles
URL:https://craftni.org/event/threads-of-empowerment-conflict-textiles-international-journey/
LOCATION:Ulster Museum\, BT9 5AB\, United Kingdom
CATEGORIES:Exhibitions
ATTACH;FMTTYPE=image/png:https://craftni.org/wp-content/uploads/2024/06/Screenshot-2024-06-20-at-12.50.59.png
END:VEVENT
BEGIN:VEVENT
DTSTART;TZID=Europe/London:20240905T180000
DTEND;TZID=Europe/London:20240926T170000
DTSTAMP:20260421T195454
CREATED:20240904T142529Z
LAST-MODIFIED:20240904T142706Z
UID:17163-1725559200-1727370000@craftni.org
SUMMARY:'Turning Turns 40'
DESCRIPTION:Craft NI are delighted to host the ‘Turning Turns 40’ exhibition\, which celebrates the Irish Woodturners Guild 40th Anniversary; the exhibition features 40 exceptionally turned wood forms that demonstrate excellence in craftsmanship and design\, as well as carrying a message about the threat to the native Ash tree from Ash Dieback disease. \nThe starting point of the exhibition was a technical challenge for all participants\, who were required to work from a uniform sized block of Ash. Over 360 cubes of Ash 15cm3 in size were distributed from which 40 final pieces were selected by an independent judging panel comprising Stephen O’Connell (Ireland) and woodturners Barbara Dill (USA) and Ulf Jasson (Sweden). \nThe exhibition highlights the critical issue that affects our native Ash tree: Ash Dieback disease. First detected in Ireland in 2012\, the disease is now prevalent throughout the island and across Europe\, threatening the native Ash. \nIn celebrating the IWG anniversary\, the Guild also commemorates the offering and history that the Ash has provided to the Irish landscape through this lasting collection of native Ash crafted works of art. \nParticipating makers: \nPatricia Berns\, Sean Byrne\, Imelda Connolly\, John Deaton\, Stephen Dowie\, Harry Emerson\, Paul Finley\, John Flynn\, Kevin Geaney\, Mike Gray\, Graham Griffith\, Eugene Grimley\, Oliver Hackett\, Philip Hart\, Ger Hennessy\, Emmet Kane\, Anthony Keenan\, Charley McCarthy\, Tom McCosh\, Sean McGann\, Martin McNamara\, David Miller\, Alan Monaghan\, Patrick Murphy\, Hugh Nolan\, Paddy O’Connor\, Liam O’Neill\, Seamus O’Reilly\, Padraig Phelan\, Jack Quearney\, Liam Quirke\, Kieran Reynolds\, Noel Roche\, Tom Ronayne\, Donal Ryan\, John Sinnott\, Paul Spiers\, Rob Steen\, Jim Stevens\, Louise Wilde
URL:https://craftni.org/event/turning-turns-40/
LOCATION:Craft NI Gallery\, 115 - 119 Royal Ave\, Belfast\, BT1 1FF\, United Kingdom
CATEGORIES:Exhibitions
ATTACH;FMTTYPE=image/png:https://craftni.org/wp-content/uploads/2024/09/Website-event-size-48.png
ORGANIZER;CN="Craft NI":MAILTO:gallery@craftni.org
END:VEVENT
BEGIN:VEVENT
DTSTART;TZID=Europe/London:20240909T093000
DTEND;TZID=Europe/London:20241005T163000
DTSTAMP:20260421T195454
CREATED:20240828T135903Z
LAST-MODIFIED:20240828T135903Z
UID:17117-1725874200-1728145800@craftni.org
SUMMARY:‘Contemporary Art of Northern Ireland #5’
DESCRIPTION:Gallery 545 and the Island Arts Centre are delighted to present their fifth annual major showcase celebrating contemporary art created in Northern Ireland. The exhibition features over twenty accomplished artists who have achieved significant recognition\, and presents a large and diverse art selection. Artworks displayed in two galleries include exquisite glass art and textile gems\, vibrant abstracts\, works inspired by the beauty of nature\, fascinating figures and  stunning sculptures. \nViewers are invited to take a visual journey through the galleries to discover artists and art\, and appreciate the wealth of talent in the region. \nFeaturing: Lisa Ballard\, Justė Bernotaitė\, Ronan Bowes\, Majella Clancy\, Craig Donald\, Ray Duncan\, Emma Fitzpatrick\, Spencer Glover\, Karl Hagan\, Elham Hemmat\, Eamonn Higgins\, Ashely B. Holmes\, Janet Keith\, Patricia Kelly\, Louise Lennon\, Judith Logan\, Alison Lowry\, Sinead McKeever\, Sarah McWilliams\, Tracey McVerry\, Maria Perry\, Latisha Reihill and Anushiya Sundaralingam. \nThis exhibition is curated by Francesca Biondi\, Art Director at Gallery 545. It will be accompanied by tours and talks\, and details will be published online. \nOpening reception – Saturday 7 September 2-4.30pm \n___________
URL:https://craftni.org/event/contemporary-art-of-northern-ireland-5/
LOCATION:Island Arts Centre\, The Island\, Lisburn\, BT27 4RL\, United Kingdom
CATEGORIES:Exhibitions
ATTACH;FMTTYPE=image/png:https://craftni.org/wp-content/uploads/2024/08/Website-event-size-46.png
END:VEVENT
BEGIN:VEVENT
DTSTART;TZID=Europe/London:20240914T140000
DTEND;TZID=Europe/London:20241020T170000
DTSTAMP:20260421T195454
CREATED:20240909T103629Z
LAST-MODIFIED:20240909T104119Z
UID:17209-1726322400-1729443600@craftni.org
SUMMARY:'Paper Magic' exhibition
DESCRIPTION:The Belfast Paper Art Society’s exhibition ‘Paper Magic’ opens at Millennium Court  on Saturday\, September 14th\, 2 – 4pm. This exciting event will showcase the vibrant and diverse world of paper art\, featuring an array of Papier Mache sculptures\, intricate collages\, and large-scale mixed media pieces\, that are sure to captivate visitors of all ages! \nThe exhibition celebrates the versatility and creativity of paper as a medium. In a special tribute to Portadown’s own pioneering artist\, Ann Acheson\, each exhibiting artist has created new pieces inspired by her groundbreaking work. Ann Acheson is renowned for her contribution to medical history during World War I\, where she helped develop the Papier Mache ‘Acheson Splint\,’ a precursor to the modern plaster cast that improved the healing of broken limbs. \nIn addition to the main exhibition\, Millennium Court is delighted to host a series of kids’ paper craft workshops to celebrate the opening of ‘Paper Magic’.
URL:https://craftni.org/event/paper-magic-exhibition-3/
LOCATION:Millenium Court\, 2 William Street\, Portadown\, Co Armagh\, BT62 3NX\, United Kingdom
CATEGORIES:Exhibitions
ATTACH;FMTTYPE=image/png:https://craftni.org/wp-content/uploads/2024/09/Website-event-size-49.png
END:VEVENT
BEGIN:VEVENT
DTSTART;TZID=Europe/London:20240918T083000
DTEND;TZID=Europe/London:20240918T130000
DTSTAMP:20260421T195454
CREATED:20240904T141941Z
LAST-MODIFIED:20240904T141941Z
UID:17158-1726648200-1726664400@craftni.org
SUMMARY:Craft Corporate Showcase at the Festival of Business
DESCRIPTION:Craft NI are delighted to take part in the upcoming Festival of Business on September 18th\, run by the NI Chamber of Commerce & Industry!\n\nStop by our stand and find out how craft can enhance wellbeing and staff engagement in the workplace!  A craft workshop is the perfect team building exercise\, helping your staff reconnect in the context of the now so popular hybrid working.\n\nCraft is also a sustainable choice for awards\, conference gifts or individual retirement or speakers’ gifts\, while giving a proud nod to local talent. The friendly Craft NI team will answer any questions about commissions\, craft experiences or sponsorship opportunities  – we look forward to meeting you! \n\nVisitors will enjoy a stunning display of artworks suitable for corporate gifting\, as well as a pottery demonstration: Josh from Mud Ireland will be throwing at his potters wheel!\n\nTickets are free but must be  booked before September 11th  HERE.
URL:https://craftni.org/event/craft-corporate-showcase-at-the-festival-of-business/
LOCATION:St. George’s Market\, 12 - 20 East Bridge Street\, Belfast\, Antrim\, BT1 3NQ
CATEGORIES:Exhibitions,Markets
ATTACH;FMTTYPE=image/png:https://craftni.org/wp-content/uploads/2024/09/NI-chamber-event-2.png
ORGANIZER;CN="Northern Ireland Chamber of Commerce and industry":MAILTO:mail@northernirelandchamber.com
END:VEVENT
END:VCALENDAR