BEGIN:VCALENDAR
VERSION:2.0
PRODID:-//Craft NI - ECPv6.15.13.1//NONSGML v1.0//EN
CALSCALE:GREGORIAN
METHOD:PUBLISH
X-ORIGINAL-URL:https://craftni.org
X-WR-CALDESC:Events for Craft NI
REFRESH-INTERVAL;VALUE=DURATION:PT1H
X-Robots-Tag:noindex
X-PUBLISHED-TTL:PT1H
BEGIN:VTIMEZONE
TZID:Europe/London
BEGIN:DAYLIGHT
TZOFFSETFROM:+0000
TZOFFSETTO:+0100
TZNAME:BST
DTSTART:20210328T010000
END:DAYLIGHT
BEGIN:STANDARD
TZOFFSETFROM:+0100
TZOFFSETTO:+0000
TZNAME:GMT
DTSTART:20211031T010000
END:STANDARD
BEGIN:DAYLIGHT
TZOFFSETFROM:+0000
TZOFFSETTO:+0100
TZNAME:BST
DTSTART:20220327T010000
END:DAYLIGHT
BEGIN:STANDARD
TZOFFSETFROM:+0100
TZOFFSETTO:+0000
TZNAME:GMT
DTSTART:20221030T010000
END:STANDARD
BEGIN:DAYLIGHT
TZOFFSETFROM:+0000
TZOFFSETTO:+0100
TZNAME:BST
DTSTART:20230326T010000
END:DAYLIGHT
BEGIN:STANDARD
TZOFFSETFROM:+0100
TZOFFSETTO:+0000
TZNAME:GMT
DTSTART:20231029T010000
END:STANDARD
END:VTIMEZONE
BEGIN:VEVENT
DTSTART;TZID=Europe/London:20221118T160000
DTEND;TZID=Europe/London:20221118T200000
DTSTAMP:20260423T084808
CREATED:20221111T143858Z
LAST-MODIFIED:20221111T143858Z
UID:10731-1668787200-1668801600@craftni.org
SUMMARY:Festive Winter Christmas Market
DESCRIPTION:All are welcome to the Pollen Studio and Gallery’s Festive Fun Arts & Crafts Market on Friday 18th November 4-8pm. \nThe market will take place over the ground and first floors of 7 North Street\, BT1 1NH with festive fun\, crafts\, food\, and gifts on offer. \nCome on down and see some beautiful art from local artists\, partake in bobble painting\, hot chocolate\, mulled wine! \nEntry to the market is free!
URL:https://craftni.org/event/festive-winter-christmas-market/
LOCATION:Pollen Studio and Gallery\, 7 North St\, Belfast\, BT1 1NH\, United Kingdom
CATEGORIES:Fairs,Markets
ATTACH;FMTTYPE=image/png:https://craftni.org/wp-content/uploads/2022/11/Screenshot-2022-11-10-at-13.58.44-e1668088876564.png
ORGANIZER;CN="Pollen Studio and Gallery":MAILTO:pollenstudiobelfast@gmail.com
END:VEVENT
BEGIN:VEVENT
DTSTART;TZID=Europe/London:20221126T100000
DTEND;TZID=Europe/London:20221127T170000
DTSTAMP:20260423T084808
CREATED:20221109T221821Z
LAST-MODIFIED:20221109T222042Z
UID:10670-1669456800-1669568400@craftni.org
SUMMARY:The Burnavon Winter Craft & Food Fair
DESCRIPTION:The Burnavon Winter Craft & Food Fair is back for  for two days this year: Saturday 26th November\, 10am – 5pm and Sunday 27th November 1pm – 5pm. \nVisitors will be able to browse handmade ceramics\, textiles\, wood craft\, jewellery whilst getting in the festive spirit with great food and other craft taster sessions! \n  \nYou can download the Winter Craft & Food Fair brochure here Burnavon Winter Craft Fair NOV 2022 - PRINT.
URL:https://craftni.org/event/the-burnavon-winter-craft-food-fair/
LOCATION:The Burnavon\, Burn Road\, Cookstown\, BT80 8DN\, United Kingdom
CATEGORIES:Christmas,Fairs,Workshops
ATTACH;FMTTYPE=image/jpeg:https://craftni.org/wp-content/uploads/2022/11/Social-Post.jpg
END:VEVENT
END:VCALENDAR