BEGIN:VCALENDAR
VERSION:2.0
PRODID:-//Craft NI - ECPv6.15.20//NONSGML v1.0//EN
CALSCALE:GREGORIAN
METHOD:PUBLISH
X-WR-CALNAME:Craft NI
X-ORIGINAL-URL:https://craftni.org
X-WR-CALDESC:Events for Craft NI
REFRESH-INTERVAL;VALUE=DURATION:PT1H
X-Robots-Tag:noindex
X-PUBLISHED-TTL:PT1H
BEGIN:VTIMEZONE
TZID:Europe/London
BEGIN:DAYLIGHT
TZOFFSETFROM:+0000
TZOFFSETTO:+0100
TZNAME:BST
DTSTART:20230326T010000
END:DAYLIGHT
BEGIN:STANDARD
TZOFFSETFROM:+0100
TZOFFSETTO:+0000
TZNAME:GMT
DTSTART:20231029T010000
END:STANDARD
BEGIN:DAYLIGHT
TZOFFSETFROM:+0000
TZOFFSETTO:+0100
TZNAME:BST
DTSTART:20240331T010000
END:DAYLIGHT
BEGIN:STANDARD
TZOFFSETFROM:+0100
TZOFFSETTO:+0000
TZNAME:GMT
DTSTART:20241027T010000
END:STANDARD
BEGIN:DAYLIGHT
TZOFFSETFROM:+0000
TZOFFSETTO:+0100
TZNAME:BST
DTSTART:20250330T010000
END:DAYLIGHT
BEGIN:STANDARD
TZOFFSETFROM:+0100
TZOFFSETTO:+0000
TZNAME:GMT
DTSTART:20251026T010000
END:STANDARD
BEGIN:DAYLIGHT
TZOFFSETFROM:+0000
TZOFFSETTO:+0100
TZNAME:BST
DTSTART:20260329T010000
END:DAYLIGHT
BEGIN:STANDARD
TZOFFSETFROM:+0100
TZOFFSETTO:+0000
TZNAME:GMT
DTSTART:20261025T010000
END:STANDARD
END:VTIMEZONE
BEGIN:VEVENT
DTSTART;TZID=Europe/London:20241107T100000
DTEND;TZID=Europe/London:20241110T173000
DTSTAMP:20260425T224837
CREATED:20240729T113712Z
LAST-MODIFIED:20240729T125716Z
UID:17067-1730973600-1731259800@craftni.org
SUMMARY:The Knitting & Stitching Show Belfast
DESCRIPTION:Craft NI are delighted to partner with the Knitting & Stitching Show\, one of the leading consumer textiles exhibitions in the UK\, who are making their debut Belfast Show at Titanic Exhibition Centre from the 7th-10th November 2024 !\n\n\n\nVisitors can expect inspiring textile art galleries\, a wide range of enjoyable and practical skills workshops\, free talks & demos\, interactive features\, as well as over 100 of the leading specialist craft suppliers.\n\n\n\nCraft NI will have a stand so stop by and say hello  – featuring a selection of Northern Irish textile artists and their wonderful work\, and of course signposting and answering any questions about Northern Ireland’s vibrant craft sector!\n\n\n\nThose interested to attend can book their tickets HERE and avail of the CNI24 discount code for £2 off standard admission tickets (not valid on Two-Day or VIP).\n\n\nPlease note\, the show ends at 5pm on Sunday.
URL:https://craftni.org/event/the-knitting-stitching-show-belfast/
LOCATION:Titanic Exhibition Centre\, 17 Queens Road\, Belfast\, BT3 9DU\, United Kingdom
CATEGORIES:Exhibitions,Fairs,Markets,Workshops
ATTACH;FMTTYPE=image/png:https://craftni.org/wp-content/uploads/2024/07/2.png
ORGANIZER;CN="The Knitting & Stitching Show":MAILTO:mail@twistedthread.com
END:VEVENT
BEGIN:VEVENT
DTSTART;TZID=Europe/London:20251130T100000
DTEND;TZID=Europe/London:20251130T160000
DTSTAMP:20260425T224837
CREATED:20241205T155601Z
LAST-MODIFIED:20251111T145235Z
UID:17734-1764496800-1764518400@craftni.org
SUMMARY:Christmas Art & Craft Fair with North Down Craft Collective
DESCRIPTION:North Down Craft Collective returns to the charming setting of Castle Espie for their annual Christmas market – stop by to meet local artists and makers and shop their beautiful\, handmade craft pieces – from textiles to ceramics\, paintings to prints\, and plenty more in between. \nOver 30 artists and makers will be showcasing their work making your Christmas gift buying a pleasure this year! \nEnjoy festive music\, treats from the Kingfisher Cafe and your chance to meet the makers. \nAdmission to the fair is free of charge (normal charges apply to visit the wetland area)
URL:https://craftni.org/event/north-down-craft-collective-christmas-market/
LOCATION:WWT Castle Espie\, 78 Ballydrain Rd\, Comber\, Newtownards\, BT23 6EA
CATEGORIES:Christmas,Fairs,Markets,Meet the Maker
ATTACH;FMTTYPE=image/png:https://craftni.org/wp-content/uploads/2024/12/Website-event-size-60.png
ORGANIZER;CN="North Down Craft Collective":MAILTO:ndcraftcollective@gmail.com
END:VEVENT
BEGIN:VEVENT
DTSTART;TZID=Europe/London:20251205T160000
DTEND;TZID=Europe/London:20251206T160000
DTSTAMP:20260425T224837
CREATED:20241113T160008Z
LAST-MODIFIED:20251110T112048Z
UID:17624-1764950400-1765036800@craftni.org
SUMMARY:Creative Peninsula Christmas Fayre
DESCRIPTION:For a unique shopping experience\, join the makers and artists of the Creative Peninsula as the annual Christmas Fayre makes a welcome return to Ards Arts Centre! \n\n\n\n\n\n  \n\n\nBe inspired to purchase the perfect\, unique\, handcrafted Christmas gift in the opulent festive setting of the Georgian and Sunburst galleries of Ards Arts Centre. \nAll work has been handcrafted and designed by the professionally practicing artists and makers of Ards and North Down. \nThere will be seasonal live music\, complimentary gift wrapping and festive refreshments. \n\n\n\n\n\n\nOPENING HOURS: \nLate Night Shopping: Fri 5 Dec\, 4pm – 8pm \nSmall Business Saturday: Sat 6 Dec\, 10am – 4pm
URL:https://craftni.org/event/17624/
LOCATION:Ards Arts Centre\, Town Hall\, Conway Square\, Newtownards\, BT23 4NP\, United Kingdom
CATEGORIES:Christmas,Fairs,Markets,Meet the Maker
ATTACH;FMTTYPE=image/jpeg:https://craftni.org/wp-content/uploads/2024/11/10.jpg
END:VEVENT
END:VCALENDAR