BEGIN:VCALENDAR
VERSION:2.0
PRODID:-//Craft NI - ECPv6.15.13.1//NONSGML v1.0//EN
CALSCALE:GREGORIAN
METHOD:PUBLISH
X-WR-CALNAME:Craft NI
X-ORIGINAL-URL:https://craftni.org
X-WR-CALDESC:Events for Craft NI
REFRESH-INTERVAL;VALUE=DURATION:PT1H
X-Robots-Tag:noindex
X-PUBLISHED-TTL:PT1H
BEGIN:VTIMEZONE
TZID:Europe/London
BEGIN:DAYLIGHT
TZOFFSETFROM:+0000
TZOFFSETTO:+0100
TZNAME:BST
DTSTART:20240331T010000
END:DAYLIGHT
BEGIN:STANDARD
TZOFFSETFROM:+0100
TZOFFSETTO:+0000
TZNAME:GMT
DTSTART:20241027T010000
END:STANDARD
BEGIN:DAYLIGHT
TZOFFSETFROM:+0000
TZOFFSETTO:+0100
TZNAME:BST
DTSTART:20250330T010000
END:DAYLIGHT
BEGIN:STANDARD
TZOFFSETFROM:+0100
TZOFFSETTO:+0000
TZNAME:GMT
DTSTART:20251026T010000
END:STANDARD
BEGIN:DAYLIGHT
TZOFFSETFROM:+0000
TZOFFSETTO:+0100
TZNAME:BST
DTSTART:20260329T010000
END:DAYLIGHT
BEGIN:STANDARD
TZOFFSETFROM:+0100
TZOFFSETTO:+0000
TZNAME:GMT
DTSTART:20261025T010000
END:STANDARD
END:VTIMEZONE
BEGIN:VEVENT
DTSTART;TZID=Europe/London:20251127T180000
DTEND;TZID=Europe/London:20251127T200000
DTSTAMP:20260422T201257
CREATED:20241114T134255Z
LAST-MODIFIED:20251110T112004Z
UID:17631-1764266400-1764273600@craftni.org
SUMMARY:Made in AND: Pop-Up Christmas Shop
DESCRIPTION:The Made in AND Christmas Pop-Up Shop returns to the North Down Museum! \n\n\n\n\n \n\n\nFeaturing twinkling lights\, live music\, and craft demonstrations\, it’s the perfect evening to start the holiday magic and get a sneak peek of all the beautiful items available. Discover a beautiful selection of handcrafted gifts and artwork made by over 25 talented local artists and crafters. \nWhether you’re shopping for a unique present or simply soaking up the seasonal spirit\, this is the perfect place to find something special for your loved ones.
URL:https://craftni.org/event/made-in-and-pop-up-christmas-shop-2/
LOCATION:North Down Museum\, Town Hall\, The Castle\, Bangor\, BT20 4BT\, United Kingdom
CATEGORIES:Christmas,Markets,Meet the Maker
ATTACH;FMTTYPE=image/jpeg:https://craftni.org/wp-content/uploads/2024/11/13.jpg
END:VEVENT
BEGIN:VEVENT
DTSTART;TZID=Europe/London:20251127T190000
DTEND;TZID=Europe/London:20251127T203000
DTSTAMP:20260422T201257
CREATED:20251120T135231Z
LAST-MODIFIED:20251120T135231Z
UID:19302-1764270000-1764275400@craftni.org
SUMMARY:'Cakes to Clay' - talk by James Watson
DESCRIPTION:F.E. McWilliam Gallery & Studio invite you to a talk by James Stanley Watson\, ceramic artist and winner of The Great Pottery Throw Down 2025 on Thursday 27 November 2025. \nJames Stanley Watson is a Northern Ireland-based ceramic artist known for his expressive\, story-rich creations that blend imagination and craftsmanship. After discovering pottery just four years ago\, James’ creative journey led him to the nation’s screens as the winner of The Great Pottery Throw Down 2025. \nA former cake maker and performer\, James brings a deep sense of play\, narrative\, and human connection to his work. His ceramics often explore themes of memory\, transformation\, and the joy of making – with his signature ghosts becoming beloved symbols of warmth and whimsy. \nEvent cost: Members £5\, Guests £10\, Students £5\nPlease call the gallery on 028 4062 3322 to book your place. 7pm for tea/coffee\, talk starts at 7.30pm \n 
URL:https://craftni.org/event/cakes-to-clay-talk-by-james-watson/
LOCATION:F.E. McWilliam Gallery & Studio\, Banbridge\, BT32 3NB\, United Kingdom
CATEGORIES:Christmas,Meet the Maker,Talks
ATTACH;FMTTYPE=image/png:https://craftni.org/wp-content/uploads/2025/11/Website-event-size-58-1.png
END:VEVENT
END:VCALENDAR