BEGIN:VCALENDAR
VERSION:2.0
PRODID:-//Craft NI - ECPv6.15.20//NONSGML v1.0//EN
CALSCALE:GREGORIAN
METHOD:PUBLISH
X-WR-CALNAME:Craft NI
X-ORIGINAL-URL:https://craftni.org
X-WR-CALDESC:Events for Craft NI
REFRESH-INTERVAL;VALUE=DURATION:PT1H
X-Robots-Tag:noindex
X-PUBLISHED-TTL:PT1H
BEGIN:VTIMEZONE
TZID:Europe/London
BEGIN:DAYLIGHT
TZOFFSETFROM:+0000
TZOFFSETTO:+0100
TZNAME:BST
DTSTART:20230326T010000
END:DAYLIGHT
BEGIN:STANDARD
TZOFFSETFROM:+0100
TZOFFSETTO:+0000
TZNAME:GMT
DTSTART:20231029T010000
END:STANDARD
BEGIN:DAYLIGHT
TZOFFSETFROM:+0000
TZOFFSETTO:+0100
TZNAME:BST
DTSTART:20240331T010000
END:DAYLIGHT
BEGIN:STANDARD
TZOFFSETFROM:+0100
TZOFFSETTO:+0000
TZNAME:GMT
DTSTART:20241027T010000
END:STANDARD
BEGIN:DAYLIGHT
TZOFFSETFROM:+0000
TZOFFSETTO:+0100
TZNAME:BST
DTSTART:20250330T010000
END:DAYLIGHT
BEGIN:STANDARD
TZOFFSETFROM:+0100
TZOFFSETTO:+0000
TZNAME:GMT
DTSTART:20251026T010000
END:STANDARD
END:VTIMEZONE
BEGIN:VEVENT
DTSTART;TZID=Europe/London:20240316T100000
DTEND;TZID=Europe/London:20240330T170000
DTSTAMP:20260424T220448
CREATED:20240320T130231Z
LAST-MODIFIED:20240320T130231Z
UID:16374-1710583200-1711818000@craftni.org
SUMMARY:Causeway Craft Trail
DESCRIPTION:The Causeway Craft Trail makes it easy to discover the traditional and contemporary arts and crafts businesses that thrive in the Causeway Coast and Glens of Northern Ireland. \nDrop in\, meet the makers and listen to their stories whilst you acquire a new skill with a workshop in pottery\, painting\, felting\, glass-making and more. Take a tour of their studios and workshops on an Open Studio Day\, where you’ll gain a behind-the-scenes insight in to the creative processes that go in to every lovingly-crafted handmade item. \nTo see the full details\, participating makers and current events\, please click here.
URL:https://craftni.org/event/causeway-craft-trail/
LOCATION:Cawseway Coast and Glens\, United Kingdom
CATEGORIES:Open Studio,Workshops
ATTACH;FMTTYPE=image/png:https://craftni.org/wp-content/uploads/2024/03/Website-event-size-40.png
END:VEVENT
BEGIN:VEVENT
DTSTART;TZID=Europe/London:20240323T100000
DTEND;TZID=Europe/London:20240323T150000
DTSTAMP:20260424T220448
CREATED:20240320T124312Z
LAST-MODIFIED:20240320T124312Z
UID:16361-1711188000-1711206000@craftni.org
SUMMARY:Adam Frew - Open Studio
DESCRIPTION:Adam Frew will host an Open Studio day as part of the Causeway Craft Trail on Saturday\, March 23rd\, 10am -3pm. Stop by for a chat and to see a selection of his pots\, including seconds.
URL:https://craftni.org/event/adam-frew-open-studio/
LOCATION:Adam Frew Studio\, 21 Cullycapple Park\, Aghadowey\, BT51 4AS\, United Kingdom
CATEGORIES:Open Studio
ATTACH;FMTTYPE=image/png:https://craftni.org/wp-content/uploads/2024/03/Website-event-size-36.png
END:VEVENT
END:VCALENDAR