BEGIN:VCALENDAR
VERSION:2.0
PRODID:-//Craft NI - ECPv6.15.20//NONSGML v1.0//EN
CALSCALE:GREGORIAN
METHOD:PUBLISH
X-WR-CALNAME:Craft NI
X-ORIGINAL-URL:https://craftni.org
X-WR-CALDESC:Events for Craft NI
REFRESH-INTERVAL;VALUE=DURATION:PT1H
X-Robots-Tag:noindex
X-PUBLISHED-TTL:PT1H
BEGIN:VTIMEZONE
TZID:Europe/London
BEGIN:DAYLIGHT
TZOFFSETFROM:+0000
TZOFFSETTO:+0100
TZNAME:BST
DTSTART:20230326T010000
END:DAYLIGHT
BEGIN:STANDARD
TZOFFSETFROM:+0100
TZOFFSETTO:+0000
TZNAME:GMT
DTSTART:20231029T010000
END:STANDARD
BEGIN:DAYLIGHT
TZOFFSETFROM:+0000
TZOFFSETTO:+0100
TZNAME:BST
DTSTART:20240331T010000
END:DAYLIGHT
BEGIN:STANDARD
TZOFFSETFROM:+0100
TZOFFSETTO:+0000
TZNAME:GMT
DTSTART:20241027T010000
END:STANDARD
BEGIN:DAYLIGHT
TZOFFSETFROM:+0000
TZOFFSETTO:+0100
TZNAME:BST
DTSTART:20250330T010000
END:DAYLIGHT
BEGIN:STANDARD
TZOFFSETFROM:+0100
TZOFFSETTO:+0000
TZNAME:GMT
DTSTART:20251026T010000
END:STANDARD
END:VTIMEZONE
BEGIN:VEVENT
DTSTART;TZID=Europe/London:20240517T180000
DTEND;TZID=Europe/London:20240519T170000
DTSTAMP:20260424T203921
CREATED:20240430T153412Z
LAST-MODIFIED:20240430T153412Z
UID:16656-1715968800-1716138000@craftni.org
SUMMARY:Open Studio Weekend in Broughshane
DESCRIPTION:Members of County Antrim Open Studios who live in or near Broughshane are welcoming visitors to their studios on the weekend of 17/18/19 May! \nStop by and meet furniture maker Noel McCullough\, Rosanne from Willow Leaves Handmade Books\, jeweller Vera McCullough or visit The Black Sheep Gallery. Open studio days are ideal for meeting makers in an informal setting\, learning about their craft and discussing their work\, possible commissions or simply having a leisurely browse! \nPlease take note of the addresses for individual participants and the opening times below: \nNoel McCullough\, 100 Cloughwater Road\, BT436SZ\nBlack Sheep Gallery\, 125 Knockan Road\, BT437JA\nWillow Leaves Handmade Books\, 105 Knowehead Road\, BT437JD\nVera McCullough Jewellery\, 18 Hazelbank Road\, BT424LP \nOpening times: \nFriday:  6 – 9pm \nSaturday: 11 – 4pm \nSunday:  2 – 5pm
URL:https://craftni.org/event/open-studio-weekend-in-broughshane/
CATEGORIES:Open Studio
ATTACH;FMTTYPE=image/jpeg:https://craftni.org/wp-content/uploads/2024/04/img021-879b48a59b8b3feeafd0cfbfa7d1a9c6-e1714490938611.jpg
ORGANIZER;CN="Country Antrim Open Studios":MAILTO:info@countyantrimopenstudios.co.uk
END:VEVENT
END:VCALENDAR