BEGIN:VCALENDAR
VERSION:2.0
PRODID:-//Craft NI - ECPv6.15.13.1//NONSGML v1.0//EN
CALSCALE:GREGORIAN
METHOD:PUBLISH
X-ORIGINAL-URL:https://craftni.org
X-WR-CALDESC:Events for Craft NI
REFRESH-INTERVAL;VALUE=DURATION:PT1H
X-Robots-Tag:noindex
X-PUBLISHED-TTL:PT1H
BEGIN:VTIMEZONE
TZID:Europe/London
BEGIN:DAYLIGHT
TZOFFSETFROM:+0000
TZOFFSETTO:+0100
TZNAME:BST
DTSTART:20220327T010000
END:DAYLIGHT
BEGIN:STANDARD
TZOFFSETFROM:+0100
TZOFFSETTO:+0000
TZNAME:GMT
DTSTART:20221030T010000
END:STANDARD
BEGIN:DAYLIGHT
TZOFFSETFROM:+0000
TZOFFSETTO:+0100
TZNAME:BST
DTSTART:20230326T010000
END:DAYLIGHT
BEGIN:STANDARD
TZOFFSETFROM:+0100
TZOFFSETTO:+0000
TZNAME:GMT
DTSTART:20231029T010000
END:STANDARD
BEGIN:DAYLIGHT
TZOFFSETFROM:+0000
TZOFFSETTO:+0100
TZNAME:BST
DTSTART:20240331T010000
END:DAYLIGHT
BEGIN:STANDARD
TZOFFSETFROM:+0100
TZOFFSETTO:+0000
TZNAME:GMT
DTSTART:20241027T010000
END:STANDARD
END:VTIMEZONE
BEGIN:VEVENT
DTSTART;TZID=Europe/London:20230225T100000
DTEND;TZID=Europe/London:20230304T173000
DTSTAMP:20260419T224809
CREATED:20230105T144731Z
LAST-MODIFIED:20230105T144731Z
UID:11131-1677319200-1677951000@craftni.org
SUMMARY:Make a creepie milking stool
DESCRIPTION:Stephen Ryan from Green Woodwork Ireland will teach you the skills needed to make your own piece of heirloom furniture to last generations\, in the form of a traditional milking stool\, otherwise known as a Creepie. \nThis Two-day workshop encompasses the use of the shave horse and a variety of hand tools including the drawknife\, auger drill spokeshave\, tenon cutter\, travisher\, Japanese pull saw and much more. \nAll tools and materials are supplied. This course is suited to all levels including complete beginners. Due to the use of sharp tools during the class\, sturdy boots or shoes should be worn. Workshop times are 10.00am to 5.30pm. \nThe workshop will be held at the Green Woodwork Ireland Workshop\, Minnowburn. Workshops are non-refundable and non-transferable.
URL:https://craftni.org/event/make-a-creepie-milking-stool-2/
LOCATION:Green Woodwork Ireland\, Minnowburn Wardens Office BT8 8LE\, Belfast\, BT8 8LE\, United Kingdom
CATEGORIES:Workshops
ATTACH;FMTTYPE=image/jpeg:https://craftni.org/wp-content/uploads/2023/01/Untitled-design-124.jpg
END:VEVENT
BEGIN:VEVENT
DTSTART;TZID=Europe/London:20230303T103000
DTEND;TZID=Europe/London:20230331T130000
DTSTAMP:20260419T224809
CREATED:20230206T112830Z
LAST-MODIFIED:20230206T112830Z
UID:11475-1677839400-1680267600@craftni.org
SUMMARY:Garden of stitches embroidery
DESCRIPTION:This 5 week workshop is ideal for those who would like to learn embroidery or maybe just brush up on long forgotten embroidery stitches. Embroidery has been used for hundreds of years to embellish clothing or household linens\, or to create decorative pieces: it is a way to create ‘pictures’ with a needle and thread. It is also  a great way to relax and de-stress! \nThis 5 week ‘Learn to Embroider’ course is ideal for learning 16 simple embroidery stitches. Each week you will be shown different embroidery stitches that you will use onto your two garden themed designs; these will come together at the end of the course as an embroidered garden scene which is framed in a freestanding duo frame.
URL:https://craftni.org/event/garden-of-stitches-embroidery/
LOCATION:Millenium Court\, 2 William Street\, Portadown\, Co Armagh\, BT62 3NX\, United Kingdom
CATEGORIES:Workshops
ATTACH;FMTTYPE=image/jpeg:https://craftni.org/wp-content/uploads/2023/02/Garden-of-stitches-3301f19401dafad34c38d5c9fc264494-e1675682872742.jpg
END:VEVENT
BEGIN:VEVENT
DTSTART;TZID=Europe/London:20230304T100000
DTEND;TZID=Europe/London:20230304T160000
DTSTAMP:20260419T224809
CREATED:20230105T155504Z
LAST-MODIFIED:20230105T155504Z
UID:11145-1677924000-1677945600@craftni.org
SUMMARY:Contemporary weaving: abstract wall hanging workshop
DESCRIPTION:Contemporary designer and weaver Karolina Lisek from Little Tangle hosts a one-day tapestry weaving workshop exploring the art of hand weaving in a modern context. Karolina will teach the foundation skills of tapestry weaving with participants using her new larger sized frame looms. Participants will create an abstract wall hanging using a range of techniques such as plain weave\, rya knotting and sumak. As well as covering the basic techniques\, the workshop will encourage individual expression and experimentation through the use of texture\, colour and composition. \nAll materials will be provided.
URL:https://craftni.org/event/contemporary-weaving-abstract-wall-hanging-workshop/
LOCATION:The Market Place Theatre & Arts Centre\, Armagh\, 9 Market Street\, Armagh\, BT61 7BW
CATEGORIES:Workshops
ATTACH;FMTTYPE=image/jpeg:https://craftni.org/wp-content/uploads/2023/01/Untitled-design-112.jpg
END:VEVENT
BEGIN:VEVENT
DTSTART;TZID=Europe/London:20230304T110000
DTEND;TZID=Europe/London:20230304T120000
DTSTAMP:20260419T224809
CREATED:20230228T125017Z
LAST-MODIFIED:20230228T125344Z
UID:11728-1677927600-1677931200@craftni.org
SUMMARY:Family Pottery Workshop
DESCRIPTION:Coil build a family fruit bowl. All hands to the banding wheel as you spin your way to creating a family masterpiece. This workshop aims to provide interactive\, creative fun for all the family. Enjoy getting stuck into wonderful tactile clay and experiment with shapes and forms in a sharing\, welcoming environment. \nPlease note\, a family ticket is £38 and is for three people. Additional places\, subject to availability\, are £12 each.
URL:https://craftni.org/event/family-pottery-workshop/
LOCATION:Island Arts Centre\, The Island\, Lisburn\, BT27 4RL\, United Kingdom
CATEGORIES:Workshops
ATTACH;FMTTYPE=image/png:https://craftni.org/wp-content/uploads/2023/02/Screenshot-2023-02-28-at-12.46.16-e1677588541662.png
END:VEVENT
BEGIN:VEVENT
DTSTART;TZID=Europe/London:20230304T110000
DTEND;TZID=Europe/London:20230304T160000
DTSTAMP:20260419T224809
CREATED:20230228T145857Z
LAST-MODIFIED:20230228T145857Z
UID:11732-1677927600-1677945600@craftni.org
SUMMARY:Pollinator Wet Felting Workshop
DESCRIPTION:Pollen Studio and Gallery are hosting an open day of creative art science workshops based on pollination in N.I. on Saturday 4 March\, 11am – 4pm to celebrate the first week of Spring! \nVisitors will have the opportunity to explore the wet felting technique to create their own fluffy pollinators as a reminder of caring for our native species\, forge natural clay seed bombs of wildflowers native to Ireland to support our local biodiversity\, learn to crochet wildflowers as well as view the current exhibition\,  Pollin8* . \nAll materials\, tea/coffee/juice and snacks provided!\nSuitable for all ages. Free admission.
URL:https://craftni.org/event/pollinator-wet-felting-workshop/
LOCATION:Pollen Studio and Gallery\, 7 North St\, Belfast\, BT1 1NH\, United Kingdom
CATEGORIES:Workshops
ATTACH;FMTTYPE=image/png:https://craftni.org/wp-content/uploads/2023/02/workshop-open-day-poster-08fed4ed1d12cddaf1fcc70e778ec248-e1677595747340.png
ORGANIZER;CN="Pollen Studio and Gallery":MAILTO:pollenstudiobelfast@gmail.com
END:VEVENT
END:VCALENDAR