BEGIN:VCALENDAR
VERSION:2.0
PRODID:-//Craft NI - ECPv6.15.20//NONSGML v1.0//EN
CALSCALE:GREGORIAN
METHOD:PUBLISH
X-WR-CALNAME:Craft NI
X-ORIGINAL-URL:https://craftni.org
X-WR-CALDESC:Events for Craft NI
REFRESH-INTERVAL;VALUE=DURATION:PT1H
X-Robots-Tag:noindex
X-PUBLISHED-TTL:PT1H
BEGIN:VTIMEZONE
TZID:Europe/London
BEGIN:DAYLIGHT
TZOFFSETFROM:+0000
TZOFFSETTO:+0100
TZNAME:BST
DTSTART:20240331T010000
END:DAYLIGHT
BEGIN:STANDARD
TZOFFSETFROM:+0100
TZOFFSETTO:+0000
TZNAME:GMT
DTSTART:20241027T010000
END:STANDARD
BEGIN:DAYLIGHT
TZOFFSETFROM:+0000
TZOFFSETTO:+0100
TZNAME:BST
DTSTART:20250330T010000
END:DAYLIGHT
BEGIN:STANDARD
TZOFFSETFROM:+0100
TZOFFSETTO:+0000
TZNAME:GMT
DTSTART:20251026T010000
END:STANDARD
BEGIN:DAYLIGHT
TZOFFSETFROM:+0000
TZOFFSETTO:+0100
TZNAME:BST
DTSTART:20260329T010000
END:DAYLIGHT
BEGIN:STANDARD
TZOFFSETFROM:+0100
TZOFFSETTO:+0000
TZNAME:GMT
DTSTART:20261025T010000
END:STANDARD
END:VTIMEZONE
BEGIN:VEVENT
DTSTART;TZID=Europe/London:20250430T190000
DTEND;TZID=Europe/London:20250528T210000
DTSTAMP:20260424T072351
CREATED:20250413T204639Z
LAST-MODIFIED:20250413T204639Z
UID:18328-1746039600-1748466000@craftni.org
SUMMARY:5 week throwing course for beginners and improvers
DESCRIPTION:Learn the basics of throwing and techniques like centering\, opening out and pulling up to create a variety of different pots\, including mugs and bowls during this 5 week workshop (18yrs+) \n! Turning techniques help finish pots and add details like handles and feet before adding colour with a variety of slips and underglazes. Pots are fired and glazed for collection at a later date. \n\n\n 
URL:https://craftni.org/event/5-week-throwing-course-for-beginners-and-improvers-2/
LOCATION:Flowerfield Arts Centre\, 185 Coleraine Road\, Portstewart\, BT55 7HU\, United Kingdom
CATEGORIES:Workshops
ATTACH;FMTTYPE=image/png:https://craftni.org/wp-content/uploads/2025/04/Website-event-size-50-1.png
ORGANIZER;CN="Flowerfield Arts Centre":MAILTO:info@flowerfield.org
END:VEVENT
BEGIN:VEVENT
DTSTART;TZID=Europe/London:20250517T140000
DTEND;TZID=Europe/London:20250614T160000
DTSTAMP:20260424T072351
CREATED:20250508T102231Z
LAST-MODIFIED:20250508T102231Z
UID:18423-1747490400-1749916800@craftni.org
SUMMARY:The clay club
DESCRIPTION:A workshop aimed at children aged 6 – 13! Under the guidance of tutor Andrea McCullough-Alderdice\, children will get messy at the potter’s wheel! Clay is a really tactile medium and it’s ideal for exploring texture\, shape and decoration. Participants will learn about and try out hand\, coil and slab building; they will also be using moulds\, glazes\, slips and mark making techniques. \n  \nPlease note\, this workshop will take place Saturdays from May 17th to June 14th.
URL:https://craftni.org/event/the-clay-club-2/
LOCATION:Island Arts Centre\, The Island\, Lisburn\, BT27 4RL\, United Kingdom
CATEGORIES:Workshops
ATTACH;FMTTYPE=image/png:https://craftni.org/wp-content/uploads/2025/05/Website-event-size-52.png
END:VEVENT
END:VCALENDAR