BEGIN:VCALENDAR
VERSION:2.0
PRODID:-//Craft NI - ECPv6.15.13.1//NONSGML v1.0//EN
CALSCALE:GREGORIAN
METHOD:PUBLISH
X-ORIGINAL-URL:https://craftni.org
X-WR-CALDESC:Events for Craft NI
REFRESH-INTERVAL;VALUE=DURATION:PT1H
X-Robots-Tag:noindex
X-PUBLISHED-TTL:PT1H
BEGIN:VTIMEZONE
TZID:Europe/London
BEGIN:DAYLIGHT
TZOFFSETFROM:+0000
TZOFFSETTO:+0100
TZNAME:BST
DTSTART:20240331T010000
END:DAYLIGHT
BEGIN:STANDARD
TZOFFSETFROM:+0100
TZOFFSETTO:+0000
TZNAME:GMT
DTSTART:20241027T010000
END:STANDARD
BEGIN:DAYLIGHT
TZOFFSETFROM:+0000
TZOFFSETTO:+0100
TZNAME:BST
DTSTART:20250330T010000
END:DAYLIGHT
BEGIN:STANDARD
TZOFFSETFROM:+0100
TZOFFSETTO:+0000
TZNAME:GMT
DTSTART:20251026T010000
END:STANDARD
BEGIN:DAYLIGHT
TZOFFSETFROM:+0000
TZOFFSETTO:+0100
TZNAME:BST
DTSTART:20260329T010000
END:DAYLIGHT
BEGIN:STANDARD
TZOFFSETFROM:+0100
TZOFFSETTO:+0000
TZNAME:GMT
DTSTART:20261025T010000
END:STANDARD
END:VTIMEZONE
BEGIN:VEVENT
DTSTART;TZID=Europe/London:20251113T170000
DTEND;TZID=Europe/London:20251113T190000
DTSTAMP:20260422T031516
CREATED:20250910T124959Z
LAST-MODIFIED:20250910T124959Z
UID:18851-1763053200-1763060400@craftni.org
SUMMARY:Textile birds workshop
DESCRIPTION:Under the guidance of tutor Linda O’Kane\, participants will learn how to make some padded and embellished birds which can be worn as a brooch or attached to a bag or suitcase\, or even displayed on a door knob. \nAll materials will be provided but please bring some small scissors to class. Suitable for 16+ years. \n  \nPlease note the workshop runs 5:15 – 7:15pm.
URL:https://craftni.org/event/textile-birds-workshop/
LOCATION:Crescent Art Centre\, 2-4 University Rd\, Belfast\, BT7 1NH\, United Kingdom
CATEGORIES:Workshops
ATTACH;FMTTYPE=image/png:https://craftni.org/wp-content/uploads/2025/09/5-e1757508383350.png
END:VEVENT
END:VCALENDAR