BEGIN:VCALENDAR
VERSION:2.0
PRODID:-//Craft NI - ECPv6.15.13.1//NONSGML v1.0//EN
CALSCALE:GREGORIAN
METHOD:PUBLISH
X-WR-CALNAME:Craft NI
X-ORIGINAL-URL:https://craftni.org
X-WR-CALDESC:Events for Craft NI
REFRESH-INTERVAL;VALUE=DURATION:PT1H
X-Robots-Tag:noindex
X-PUBLISHED-TTL:PT1H
BEGIN:VTIMEZONE
TZID:Europe/London
BEGIN:DAYLIGHT
TZOFFSETFROM:+0000
TZOFFSETTO:+0100
TZNAME:BST
DTSTART:20240331T010000
END:DAYLIGHT
BEGIN:STANDARD
TZOFFSETFROM:+0100
TZOFFSETTO:+0000
TZNAME:GMT
DTSTART:20241027T010000
END:STANDARD
BEGIN:DAYLIGHT
TZOFFSETFROM:+0000
TZOFFSETTO:+0100
TZNAME:BST
DTSTART:20250330T010000
END:DAYLIGHT
BEGIN:STANDARD
TZOFFSETFROM:+0100
TZOFFSETTO:+0000
TZNAME:GMT
DTSTART:20251026T010000
END:STANDARD
BEGIN:DAYLIGHT
TZOFFSETFROM:+0000
TZOFFSETTO:+0100
TZNAME:BST
DTSTART:20260329T010000
END:DAYLIGHT
BEGIN:STANDARD
TZOFFSETFROM:+0100
TZOFFSETTO:+0000
TZNAME:GMT
DTSTART:20261025T010000
END:STANDARD
END:VTIMEZONE
BEGIN:VEVENT
DTSTART;TZID=Europe/London:20251122T103000
DTEND;TZID=Europe/London:20251213T123000
DTSTAMP:20260420T074542
CREATED:20251111T135752Z
LAST-MODIFIED:20251111T135752Z
UID:19232-1763807400-1765629000@craftni.org
SUMMARY:Four Week Christmas Ceramic Nativity Workshop
DESCRIPTION:Join Ciara Campbell for this 4 week workshop to create your own ceramic nativity set made up of 11 clay pieces\, just in time for Christmas! \nPlease note the workshop will take place on Saturday 22nd\, 29th Nov & 6th\, 13th Dec | 10:30am – 12:30pm \nThis class is suitable for age 16+
URL:https://craftni.org/event/four-week-christmas-ceramic-nativity-workshop/
LOCATION:Millenium Court\, 2 William Street\, Portadown\, Co Armagh\, BT62 3NX\, United Kingdom
CATEGORIES:Workshops
ATTACH;FMTTYPE=image/png:https://craftni.org/wp-content/uploads/2025/11/15.png
END:VEVENT
END:VCALENDAR