BEGIN:VCALENDAR
VERSION:2.0
PRODID:-//Craft NI - ECPv6.15.13.1//NONSGML v1.0//EN
CALSCALE:GREGORIAN
METHOD:PUBLISH
X-WR-CALNAME:Craft NI
X-ORIGINAL-URL:https://craftni.org
X-WR-CALDESC:Events for Craft NI
REFRESH-INTERVAL;VALUE=DURATION:PT1H
X-Robots-Tag:noindex
X-PUBLISHED-TTL:PT1H
BEGIN:VTIMEZONE
TZID:Europe/London
BEGIN:DAYLIGHT
TZOFFSETFROM:+0000
TZOFFSETTO:+0100
TZNAME:BST
DTSTART:20250330T010000
END:DAYLIGHT
BEGIN:STANDARD
TZOFFSETFROM:+0100
TZOFFSETTO:+0000
TZNAME:GMT
DTSTART:20251026T010000
END:STANDARD
BEGIN:DAYLIGHT
TZOFFSETFROM:+0000
TZOFFSETTO:+0100
TZNAME:BST
DTSTART:20260329T010000
END:DAYLIGHT
BEGIN:STANDARD
TZOFFSETFROM:+0100
TZOFFSETTO:+0000
TZNAME:GMT
DTSTART:20261025T010000
END:STANDARD
BEGIN:DAYLIGHT
TZOFFSETFROM:+0000
TZOFFSETTO:+0100
TZNAME:BST
DTSTART:20270328T010000
END:DAYLIGHT
BEGIN:STANDARD
TZOFFSETFROM:+0100
TZOFFSETTO:+0000
TZNAME:GMT
DTSTART:20271031T010000
END:STANDARD
END:VTIMEZONE
BEGIN:VEVENT
DTSTART;TZID=Europe/London:20260207T120000
DTEND;TZID=Europe/London:20260207T150000
DTSTAMP:20260421T190801
CREATED:20260112T145846Z
LAST-MODIFIED:20260112T145846Z
UID:19458-1770465600-1770476400@craftni.org
SUMMARY:Willow heart workshop
DESCRIPTION:Join willow weaver Lucy Ellis and learn the traditional heritage craft of willow weaving in the magnificent surroundings of Castle Coole in a cosy room in The Grand Yard. \nIn this workshop participants will be making 2 beautiful decorative hearts. They will learn traditional weaves and create 2 different hearts in their choice of design. These can be used to adorn a wall\, mantlepiece\, table or hang on your door as an alternative to a wreath.
URL:https://craftni.org/event/willow-heart-workshop/
LOCATION:Castle Coole\, Enniskillen\, BT74 6JY\, United Kingdom
CATEGORIES:Workshops
ATTACH;FMTTYPE=image/png:https://craftni.org/wp-content/uploads/2026/01/Website-event-size-1.png
ORGANIZER;CN="Navar Willow":MAILTO:https://www.navarwillow.com/pages/contact
END:VEVENT
END:VCALENDAR