BEGIN:VCALENDAR
VERSION:2.0
PRODID:-//Craft NI - ECPv6.15.13.1//NONSGML v1.0//EN
CALSCALE:GREGORIAN
METHOD:PUBLISH
X-ORIGINAL-URL:https://craftni.org
X-WR-CALDESC:Events for Craft NI
REFRESH-INTERVAL;VALUE=DURATION:PT1H
X-Robots-Tag:noindex
X-PUBLISHED-TTL:PT1H
BEGIN:VTIMEZONE
TZID:Europe/London
BEGIN:DAYLIGHT
TZOFFSETFROM:+0000
TZOFFSETTO:+0100
TZNAME:BST
DTSTART:20250330T010000
END:DAYLIGHT
BEGIN:STANDARD
TZOFFSETFROM:+0100
TZOFFSETTO:+0000
TZNAME:GMT
DTSTART:20251026T010000
END:STANDARD
BEGIN:DAYLIGHT
TZOFFSETFROM:+0000
TZOFFSETTO:+0100
TZNAME:BST
DTSTART:20260329T010000
END:DAYLIGHT
BEGIN:STANDARD
TZOFFSETFROM:+0100
TZOFFSETTO:+0000
TZNAME:GMT
DTSTART:20261025T010000
END:STANDARD
BEGIN:DAYLIGHT
TZOFFSETFROM:+0000
TZOFFSETTO:+0100
TZNAME:BST
DTSTART:20270328T010000
END:DAYLIGHT
BEGIN:STANDARD
TZOFFSETFROM:+0100
TZOFFSETTO:+0000
TZNAME:GMT
DTSTART:20271031T010000
END:STANDARD
END:VTIMEZONE
BEGIN:VEVENT
DTSTART;TZID=Europe/London:20260304T100000
DTEND;TZID=Europe/London:20260531T170000
DTSTAMP:20260419T153329
CREATED:20260304T160613Z
LAST-MODIFIED:20260319T151504Z
UID:19687-1772618400-1780246800@craftni.org
SUMMARY:Glass beadmaking workshop
DESCRIPTION:Join Maggie Napier in her studio and discover how to make your own unique beads in this accessible\, practice based class. There are options for individual workshops or workshops for two. \nAll materials\, tools and hands-on tuition are included; your work will be kiln annealed for durability before being cleaned and posted back to you. \n  \nPlease note prices start at £75 for half day; time and date to be agreed with organiser.
URL:https://craftni.org/event/glass-beadmaking-workshop/
LOCATION:Glassistudio\, 65 Waringsford Road\, Banbridge\, BT32 4EN\, United Kingdom
CATEGORIES:Workshops
ATTACH;FMTTYPE=image/png:https://craftni.org/wp-content/uploads/2026/03/Website-event-size-4.png
ORGANIZER;CN="Maggie Napier":MAILTO:maggie@glassistudio.co.uk
END:VEVENT
BEGIN:VEVENT
DTSTART;TZID=Europe/London:20260319T100000
DTEND;TZID=Europe/London:20260620T133000
DTSTAMP:20260419T153329
CREATED:20260319T152204Z
LAST-MODIFIED:20260319T152204Z
UID:19932-1773914400-1781962200@craftni.org
SUMMARY:Make Your Own Wedding Rings
DESCRIPTION:Join Ruth from NI Silver in her Holywood studio to make a pair of bespoke wedding rings. Ruth will guide participants through the process of piercing\, filing\, soldering\, hammering\, cleaning and polishing their rings. \nNo experience is required for this workshop. \nPlease note prices start at £250; time and date to be agreed with organiser.
URL:https://craftni.org/event/make-your-own-wedding-rings/
LOCATION:NI Silver Studio\, Holywood\, Co. Down
CATEGORIES:Workshops
ATTACH;FMTTYPE=image/jpeg:https://craftni.org/wp-content/uploads/2026/03/Website-event-size-4-1.jpg
ORGANIZER;CN="NI Silver":MAILTO:ruth@nisilver.com
END:VEVENT
BEGIN:VEVENT
DTSTART;TZID=Europe/London:20260516T100000
DTEND;TZID=Europe/London:20260523T130000
DTSTAMP:20260419T153329
CREATED:20260416T105500Z
LAST-MODIFIED:20260416T105500Z
UID:20136-1778925600-1779541200@craftni.org
SUMMARY:Two-Week Ghost Making Workshop
DESCRIPTION:Join James Stanley Watson for a two-part workshop\, where participants will make their own ceramic ghosts. \nIn the first session\, participants will learn how to use press moulds to create ghost forms\, working with clay to build character and personality into each piece. James will discuss tips for shaping\, adding details\, and preparing the creations for firing. Between sessions\, the pieces will be fired.  \nIn the second session\, participants will learn techniques for using underglazes and oxides to decorate the fired work.  \nNo prior ceramics experience is needed. All materials and firings are included. \nPlease note this workshop is not suitable for people under 16 years old.
URL:https://craftni.org/event/two-week-ghost-making-workshop/
LOCATION:James & The Kiln\, 90d Carryduff Rd\, The Temple\, Lisburn\, BT27 6YL\, United Kingdom
CATEGORIES:Workshops
ATTACH;FMTTYPE=image/jpeg:https://craftni.org/wp-content/uploads/2026/04/Website-event-size-2-1.jpg
ORGANIZER;CN="James Stanley Watson":MAILTO:hello@jamesstanleywatson.com
END:VEVENT
END:VCALENDAR